BEGIN:VCALENDAR
VERSION:2.0
CREATED:20260421T115200Z
PRODID:-//Rezolute\, Inc./Equisolve Calendar v1.0//EN
METHOD:PUBLISH
BEGIN:VEVENT
UID:42d00e0a7c8e3ffb03d76a5a0c7d3914
DTSTAMP:20260422T101510Z
DTSTART:20260430T000000
DTEND:20260503T000000
SUMMARY:Pediatric Endocrine Society (PES) Annual Meeting
DESCRIPTION:Pediatric Endocrine Society (PES) Annual Meeting\nDate: Apr 30 – May 3\, 2026
END:VEVENT
END:VCALENDAR
